BEGIN:VCALENDAR
VERSION:2.0
PRODID:-//Jardin d&#039;Echange Universel (le JEU) - ECPv6.15.16//NONSGML v1.0//EN
CALSCALE:GREGORIAN
METHOD:PUBLISH
X-WR-CALNAME:Jardin d&#039;Echange Universel (le JEU)
X-ORIGINAL-URL:https://lejeu.org
X-WR-CALDESC:Évènements pour Jardin d&#039;Echange Universel (le JEU)
REFRESH-INTERVAL;VALUE=DURATION:PT1H
X-Robots-Tag:noindex
X-PUBLISHED-TTL:PT1H
BEGIN:VTIMEZONE
TZID:America/Toronto
BEGIN:DAYLIGHT
TZOFFSETFROM:-0500
TZOFFSETTO:-0400
TZNAME:EDT
DTSTART:20230312T070000
END:DAYLIGHT
BEGIN:STANDARD
TZOFFSETFROM:-0400
TZOFFSETTO:-0500
TZNAME:EST
DTSTART:20231105T060000
END:STANDARD
BEGIN:DAYLIGHT
TZOFFSETFROM:-0500
TZOFFSETTO:-0400
TZNAME:EDT
DTSTART:20240310T070000
END:DAYLIGHT
BEGIN:STANDARD
TZOFFSETFROM:-0400
TZOFFSETTO:-0500
TZNAME:EST
DTSTART:20241103T060000
END:STANDARD
BEGIN:DAYLIGHT
TZOFFSETFROM:-0500
TZOFFSETTO:-0400
TZNAME:EDT
DTSTART:20250309T070000
END:DAYLIGHT
BEGIN:STANDARD
TZOFFSETFROM:-0400
TZOFFSETTO:-0500
TZNAME:EST
DTSTART:20251102T060000
END:STANDARD
END:VTIMEZONE
BEGIN:VEVENT
DTSTART;TZID=America/Toronto:20240113T130000
DTEND;TZID=America/Toronto:20240113T163000
DTSTAMP:20260420T221952
CREATED:20231218T135004Z
LAST-MODIFIED:20231218T135033Z
UID:10280-1705150800-1705163400@lejeu.org
SUMMARY:Rencontre JEU Drummondville et conférence de Ghis
DESCRIPTION:Au-delà des échanges matériels\, découvrons l’outil évolutif qu’est le JEU! \nDéroulement \n13h00 Arrivée\n13h00 à 15h00 Échanges et renouvellements 2024 des membres\n15h00 à 16h15 Conférence de Ghis: Le JEU de la Vie! \n \nPour réserver: jeudrummondville@gmail.com
URL:https://lejeu.org/calendrier/rencontre-jeu-drummondville-et-conference-de-ghis/
LOCATION:Centre communautaire St-Pierre\, 575\, rue St-Alfred\, Drummondville\, QC
CATEGORIES:Rencontres interJEU au Québec,Rencontres JEU locales au Québec
ORGANIZER;CN="JEU Drummondville":MAILTO:jeudrummondville@gmail.com
END:VEVENT
BEGIN:VEVENT
DTSTART;TZID=America/Toronto:20240114T090000
DTEND;TZID=America/Toronto:20240114T140000
DTSTAMP:20260420T221952
CREATED:20231214T133239Z
LAST-MODIFIED:20231214T134335Z
UID:10231-1705222800-1705240800@lejeu.org
SUMMARY:Rencontre JEU Victoriaville
DESCRIPTION:Bienvenue au JEU de Victoriaville! \nDéroulement \n9h00 Arrivée\n9h00 à 10h15 Échanges\n±10h15 Cercle de paroles\n±11h15 Rencontre décisionnelle\n12h00 Potluck\n \nSVP contacter jeuvicto@gmail.com pour l’adresse du lieu de nos rencontres. \nSelon l’endroit\, il est parfois nécessaire d’apporter nos tables et chaises. \nMerci à bientôt!
URL:https://lejeu.org/calendrier/rencontre-jeu-victoriaville/
LOCATION:Victo | Endroit à déterminer\, Victoriaville\, Québec\, Canada
CATEGORIES:Rencontres JEU locales au Québec
ORGANIZER;CN="JEU Victoriaville":MAILTO:jeuvicto@gmail.com
END:VEVENT
BEGIN:VEVENT
DTSTART;TZID=America/Toronto:20240114T094500
DTEND;TZID=America/Toronto:20240114T130000
DTSTAMP:20260420T221952
CREATED:20240110T165002Z
LAST-MODIFIED:20240110T165039Z
UID:10440-1705225500-1705237200@lejeu.org
SUMMARY:Rencontre JEU Rive-Sud de Montréal
DESCRIPTION:Rencontre d’échanges
URL:https://lejeu.org/calendrier/rencontre-jeu-rive-sud-de-montreal-2/
LOCATION:Secteur Beloeil\, Beloeil\, Québec\, Canada
CATEGORIES:Rencontres JEU locales au Québec
ORGANIZER;CN="JEU Rive-Sud de Montr%C3%A9al":MAILTO:jeu.rive.sud@gmail.com
END:VEVENT
BEGIN:VEVENT
DTSTART;TZID=America/Toronto:20240114T100000
DTEND;TZID=America/Toronto:20240114T140000
DTSTAMP:20260420T221952
CREATED:20231124T182122Z
LAST-MODIFIED:20231213T211422Z
UID:9710-1705226400-1705240800@lejeu.org
SUMMARY:Rencontre JEU Beauce
DESCRIPTION:Viens nous rencontrer pour partager tes produits et services en points JEU. Ambiance chaleureuse garantie! \nUn repas partagé suivra si tu as l’élan d’y participer! \nRéserve au plus tard 3 jours avant l’événement pour faciliter l’organisation.
URL:https://lejeu.org/calendrier/rencontre-dechanges-jeu-beauce-2/
LOCATION:Beauce | Secteur St-Alfred\, Détails sur réservation\, St-Alfred de Beauce\, Québec\, Canada
CATEGORIES:Rencontres JEU locales au Québec
ORGANIZER;CN="JEU Beauce":MAILTO:jeubeauce@hotmail.com
END:VEVENT
BEGIN:VEVENT
DTSTART;TZID=America/Toronto:20240114T121500
DTEND;TZID=America/Toronto:20240114T160000
DTSTAMP:20260420T221952
CREATED:20231221T163145Z
LAST-MODIFIED:20231221T164435Z
UID:10306-1705234500-1705248000@lejeu.org
SUMMARY:Rencontre JEU Montréal
DESCRIPTION:Nos rencontres mensuelles se déroulent dans un local du quartier Youville\, entre les métros Crémazie et Sauvé.\nNous te transmettrons l’adresse exacte sur réception de ton inscription. \nMerci de confirmer ta présence par courriel à jeumontreal@gmail.com.\nSi tu souhaites venir accompagné·e\, indique aussi les noms et adresses courriel de tes invité·es. \nNous demandons aux invité·es de visionner des capsules vidéos explicatives (lejeu.org/videos) et/ou de lire le Docuvrai (lejeu.org/docuvrai) avant la rencontre.
URL:https://lejeu.org/calendrier/rencontre-jeu-montreal/
LOCATION:L’Espace des Possibles\, 9269 rue Lajeunesse\, Montréal\, Québec\, H2M 1S3
CATEGORIES:Rencontres JEU locales au Québec
ORGANIZER;CN="JEU Montr%C3%A9al":MAILTO:jeumontreal@gmail.com
END:VEVENT
BEGIN:VEVENT
DTSTART;TZID=America/Toronto:20240118T184500
DTEND;TZID=America/Toronto:20240118T201500
DTSTAMP:20260420T221952
CREATED:20240116T233103Z
LAST-MODIFIED:20240117T130429Z
UID:10459-1705603500-1705608900@lejeu.org
SUMMARY:Création du JEUdi
DESCRIPTION:C’est quoi?  \nUn espace virtuel de rencontres hebdomadaires\, propice à l’initiation et au développement de projets concrets. Les projets en question répondent à nos besoins essentiels. \nPour qui?  \nLes  JEUeur.e.s qui ont foi en cette monnaie de souveraineté et qui agissent en conscience.\nLes individus qui s’engagent à faire autrement\, quoi qu’il en soit et à tous les niveaux.\nLes gens désirant passer à l’action\, concrètement\, peu importe leur groupe JEU.\n  \nPourquoi?  \nLes rencontres JEU mensuelles\, en présentiel\, sont dynamiques et favorables à la circulation de l’énergie humaine\, essentielles à bâtir des liens de confiance.\nLors d’un marché de JEUeures\, des graines se sèment et le JEUdi est un lieu pour approfondir les sujets d’intérêt commun.\nÉvitant d’imposer des sujets aux participant.e.s des rencontres en présentiel\, le JEUdi favorise le développement d’un sujet ciblé. \n \n\nRencontre du JEUdi 18 janvier 2024 : Création du JEUdi \n \nLien de la rencontre : https://meet.jit.si/moderated/7d14730381752f6ed7887dc484d2df6ae6911faffd35f66e797b37491fae76e2\nAnimation : Susanne B.\nGardien du temps : élan volontaire\nPrise de notes : élan volontaire\n \nHoraire : \n\n18:45 à 19:00       Tour de table\, on se présente\n19:00 à 19:30       Création des assises du fonctionnement du JEUdi \n19:30 à 20:00       Horaire et sujets des prochaines rencontres \n20:00 à 20:15       Débordement et causerie \n\nIl n’est pas nécessaire de réserver.
URL:https://lejeu.org/calendrier/creations-du-jeudi/
LOCATION:QC
CATEGORIES:Rencontres virtuelles
ORGANIZER;CN="Susanne B.":MAILTO:susanneboisvenue@hotmail.com
END:VEVENT
BEGIN:VEVENT
DTSTART;TZID=America/Toronto:20240120T100000
DTEND;TZID=America/Toronto:20240120T130000
DTSTAMP:20260420T221953
CREATED:20231231T205625Z
LAST-MODIFIED:20240106T232411Z
UID:10371-1705744800-1705755600@lejeu.org
SUMMARY:Rencontre JEU Stukely
DESCRIPTION:Rencontre d’échanges.
URL:https://lejeu.org/calendrier/rencontre-jeu-stukely-2/
LOCATION:Secteur Eastman\, Eastman\, Québec\, Canada
CATEGORIES:Rencontres JEU locales au Québec
ORGANIZER;CN="JEU Stukely":MAILTO:jeu.stukely@gmail.com
END:VEVENT
BEGIN:VEVENT
DTSTART;TZID=America/Toronto:20240121T110000
DTEND;TZID=America/Toronto:20240121T150000
DTSTAMP:20260420T221953
CREATED:20240115T122942Z
LAST-MODIFIED:20240117T000919Z
UID:10453-1705834800-1705849200@lejeu.org
SUMMARY:Rencontre JEU Mégantic
DESCRIPTION:Réservation requise.\nConfirme ta présence dans les 2 jours précédents la rencontre.\n(Pour l’adresse complète\, tu peux demander aux facilitateurs de ta cellule.)\n \nApporte un plat à partager!
URL:https://lejeu.org/calendrier/rencontre-jeu-megantic/
LOCATION:Mégantic | Secteur Hampden\, Détails sur réservation\, Hampden\, Québec\, Canada
CATEGORIES:Rencontres JEU locales au Québec
ORGANIZER;CN="JEU M%C3%A9gantic":MAILTO:jeu.megantic@gmail.com
END:VEVENT
BEGIN:VEVENT
DTSTART;TZID=America/Toronto:20240125T183000
DTEND;TZID=America/Toronto:20240125T210000
DTSTAMP:20260420T221953
CREATED:20240105T124806Z
LAST-MODIFIED:20240105T124940Z
UID:10418-1706207400-1706216400@lejeu.org
SUMMARY:Rencontre JEU Laurentides
DESCRIPTION:Bienvenue à toutes et à tous!\nConfirme simplement ta présence quelques jours avant la rencontre.
URL:https://lejeu.org/calendrier/rencontre-jeu-laurentides/
LOCATION:Indianna Jane – Café Bistro Boutique\, 31 Rue St Louis\,\, Sainte-Agathe-des-Monts\, Québec\, J8C 2A6
CATEGORIES:Rencontres JEU locales au Québec
ORGANIZER;CN="JEU Laurentides":MAILTO:laurentides.jeu@gmail.com
END:VEVENT
BEGIN:VEVENT
DTSTART;TZID=America/Toronto:20240125T184500
DTEND;TZID=America/Toronto:20240125T201500
DTSTAMP:20260420T221953
CREATED:20240116T234941Z
LAST-MODIFIED:20240117T130110Z
UID:10476-1706208300-1706213700@lejeu.org
SUMMARY:JEUdi  -  Faire l’épicerie autrement
DESCRIPTION:C’est quoi?  \nUn espace virtuel de rencontres hebdomadaires\, propice à l’initiation et au développement de projets concrets. Les projets en question répondent à nos besoins essentiels. \nPour qui?  \nLes  JEUeur.e.s qui ont foi en cette monnaie de souveraineté et qui agissent en conscience.\nLes individus qui s’engagent à faire autrement\, quoi qu’il en soit et à tous les niveaux.\nLes gens désirant passer à l’action\, concrètement\, peu importe leur groupe JEU.\n \nPourquoi?  \nLes rencontres JEU mensuelles\, en présentiel\, sont dynamiques et favorables à la circulation de l’énergie humaine\, essentielles à bâtir des liens de confiance.\nLors d’un marché de JEUeures\, des graines se sèment et le JEUdi est un lieu pour approfondir les sujets d’intérêt commun.\nÉvitant d’imposer des sujets aux participant.e.s des rencontres en présentiel\, le JEUdi favorise le développement d’un sujet ciblé. \n \n\nRencontre du JEUdi 25 janvier 2024 : Faire l’épicerie autrement \n \nLien de la rencontre : https://meet.jit.si/moderated/7d14730381752f6ed7887dc484d2df6ae6911faffd35f66e797b37491fae76e2\nAnimation : Susanne B.\nGardien du temps : élan volontaire\nPrise de notes : élan volontaire  \nHoraire : \n\n18:45 à 19:00       Tour de table\, on se présente\n19:00 à 19:45       Proposition d’achat de groupe \n19:45 à 20:00       Contenants\, contenus et transformation \n20:00 à 20:15       Débordement et causerie \n\nIl n’est pas nécessaire de réserver.
URL:https://lejeu.org/calendrier/jeudi-faire-lepicerie-autrement/
LOCATION:QC
CATEGORIES:Rencontres virtuelles
ORGANIZER;CN="Susanne B.":MAILTO:susanneboisvenue@hotmail.com
END:VEVENT
BEGIN:VEVENT
DTSTART;TZID=America/Toronto:20240128T130000
DTEND;TZID=America/Toronto:20240128T160000
DTSTAMP:20260420T221953
CREATED:20240114T113706Z
LAST-MODIFIED:20240122T130248Z
UID:10443-1706446800-1706457600@lejeu.org
SUMMARY:Rencontre JEU Wotton/St-Adrien
DESCRIPTION:Rencontre JEU mensuelle\nHORAIRE (heures approximatives) \n\n13h00 – 13h15      Installation et début des échanges\n13h15 – 13h45      Période d’informations sur le fonctionnement du J.E.U. (pour les nouveaux)\n13h45 – 14h15      Cercle de parole\, Offres & Demandes\, Annonces communautaires et parler de certains sujets importants\n14h15 – 16h00      Suite et fin des échanges\n16h00                      Départ\nPour ceux qui sont intéressés\, après la rencontre à 16h il y aura un atelier sur les huiles essentielles de base à avoir à la maison pour prendre soin de votre santé au naturel donnés par Dominique Tremblay conseillère des huiles essentielles doTERRA. En confirmant votre présence\, vous serez éligible pour des prix de présence. Voici son courriel pour la contacter: dodotremblay23@gmail.com.\n \nBienvenue à tous!
URL:https://lejeu.org/calendrier/rencontre-jeu-wotton-st-adrien/
LOCATION:Secteur Wotton\, 349 rue St-Jean\, Wotton\, Québec\, Canada
CATEGORIES:Rencontres JEU locales au Québec
ORGANIZER;CN="JEU Wotton/St-Adrien":MAILTO:jeuwottonstadrien@gmail.com
END:VEVENT
BEGIN:VEVENT
DTSTART;TZID=America/Toronto:20240131T193000
DTEND;TZID=America/Toronto:20240131T213000
DTSTAMP:20260420T221953
CREATED:20231126T212256Z
LAST-MODIFIED:20231126T212256Z
UID:9993-1706729400-1706736600@lejeu.org
SUMMARY:Rencontre JEU Sherbrooke
DESCRIPTION:Chaque rencontre débute par une période pour s’installer\, des échanges de produits et services\, et est suivie de la réunion en cercle de parole.
URL:https://lejeu.org/calendrier/rencontre-jeu-sherbrooke-2/
LOCATION:Centre Multi Loisirs Sherbrooke\, 1010 Rue Fairmount\, Sherbrooke\, Québec\, J1H 3N3\, Canada
CATEGORIES:Rencontres JEU locales au Québec
ORGANIZER;CN="JEU Sherbrooke":MAILTO:jeu.sherbrooke@gmail.com
END:VEVENT
END:VCALENDAR