BEGIN:VCALENDAR
VERSION:2.0
PRODID:-//Jardin d&#039;Echange Universel (le JEU) - ECPv6.15.16//NONSGML v1.0//EN
CALSCALE:GREGORIAN
METHOD:PUBLISH
X-ORIGINAL-URL:https://lejeu.org
X-WR-CALDESC:Évènements pour Jardin d&#039;Echange Universel (le JEU)
REFRESH-INTERVAL;VALUE=DURATION:PT1H
X-Robots-Tag:noindex
X-PUBLISHED-TTL:PT1H
BEGIN:VTIMEZONE
TZID:America/Toronto
BEGIN:DAYLIGHT
TZOFFSETFROM:-0500
TZOFFSETTO:-0400
TZNAME:EDT
DTSTART:20230312T070000
END:DAYLIGHT
BEGIN:STANDARD
TZOFFSETFROM:-0400
TZOFFSETTO:-0500
TZNAME:EST
DTSTART:20231105T060000
END:STANDARD
BEGIN:DAYLIGHT
TZOFFSETFROM:-0500
TZOFFSETTO:-0400
TZNAME:EDT
DTSTART:20240310T070000
END:DAYLIGHT
BEGIN:STANDARD
TZOFFSETFROM:-0400
TZOFFSETTO:-0500
TZNAME:EST
DTSTART:20241103T060000
END:STANDARD
BEGIN:DAYLIGHT
TZOFFSETFROM:-0500
TZOFFSETTO:-0400
TZNAME:EDT
DTSTART:20250309T070000
END:DAYLIGHT
BEGIN:STANDARD
TZOFFSETFROM:-0400
TZOFFSETTO:-0500
TZNAME:EST
DTSTART:20251102T060000
END:STANDARD
END:VTIMEZONE
BEGIN:VEVENT
DTSTART;TZID=America/Toronto:20241116T100000
DTEND;TZID=America/Toronto:20241116T130000
DTSTAMP:20260421T021154
CREATED:20231231T210536Z
LAST-MODIFIED:20241029T171054Z
UID:10401-1731751200-1731762000@lejeu.org
SUMMARY:Rencontre JEU Stukely
DESCRIPTION:Lieu \n\nSous-sol de l’église d’Eastman (Complexe St-Édouard)\, 366 rue Principale\, Eastman J0E 1P0\nAccès par les 2 portes donnant sur le stationnement\nHoraire (heures approximatives)  \n\n10h00 – 10h15 : Installation\n10h15 – 11h30 : Échanges\n11h30 – 12h30 : Réunion\n12h30 – 13h00 : Suite des échanges et dîner\nQuoi apporter \n\n– Des articles à échanger et votre carnet JEU (bien sûr !)\n– Papier et crayon pour prendre des notes lors de la réunion\n– Prévoir 3$ pour la location de la salle\n– Votre lunch pour fraterniser après la réunion. \nIl y a suffisamment de tables et de chaises. Aucun besoin d’en apporter.\nIl n’est pas nécessaire de réserver votre place. \nAu plaisir de se retrouver et bienvenue à tous !
URL:https://lejeu.org/calendrier/rencontre-jeu-stukely-11/
LOCATION:Sous-sol église d’Eastman\, 366 rue Principale\, Eastman\, Québec\, J0E 1P0\, Canada
CATEGORIES:Rencontres JEU locales au Québec
ORGANIZER;CN="JEU Stukely":MAILTO:jeu.stukely@gmail.com
END:VEVENT
END:VCALENDAR