BEGIN:VCALENDAR
VERSION:2.0
PRODID:-//Jardin d&#039;Echange Universel (le JEU) - ECPv6.15.16//NONSGML v1.0//EN
CALSCALE:GREGORIAN
METHOD:PUBLISH
X-ORIGINAL-URL:https://lejeu.org
X-WR-CALDESC:Évènements pour Jardin d&#039;Echange Universel (le JEU)
REFRESH-INTERVAL;VALUE=DURATION:PT1H
X-Robots-Tag:noindex
X-PUBLISHED-TTL:PT1H
BEGIN:VTIMEZONE
TZID:America/Toronto
BEGIN:DAYLIGHT
TZOFFSETFROM:-0500
TZOFFSETTO:-0400
TZNAME:EDT
DTSTART:20230312T070000
END:DAYLIGHT
BEGIN:STANDARD
TZOFFSETFROM:-0400
TZOFFSETTO:-0500
TZNAME:EST
DTSTART:20231105T060000
END:STANDARD
BEGIN:DAYLIGHT
TZOFFSETFROM:-0500
TZOFFSETTO:-0400
TZNAME:EDT
DTSTART:20240310T070000
END:DAYLIGHT
BEGIN:STANDARD
TZOFFSETFROM:-0400
TZOFFSETTO:-0500
TZNAME:EST
DTSTART:20241103T060000
END:STANDARD
BEGIN:DAYLIGHT
TZOFFSETFROM:-0500
TZOFFSETTO:-0400
TZNAME:EDT
DTSTART:20250309T070000
END:DAYLIGHT
BEGIN:STANDARD
TZOFFSETFROM:-0400
TZOFFSETTO:-0500
TZNAME:EST
DTSTART:20251102T060000
END:STANDARD
END:VTIMEZONE
BEGIN:VEVENT
DTSTART;TZID=America/Toronto:20240414T110000
DTEND;TZID=America/Toronto:20240414T130000
DTSTAMP:20260419T110514
CREATED:20240203T145043Z
LAST-MODIFIED:20240203T145043Z
UID:10686-1713092400-1713099600@lejeu.org
SUMMARY:Rencontre JEU Mégantic
DESCRIPTION:Bienvenue aux JEUeurs d’autres groupes! Confirme ta présence dans les 2 jours précédents la rencontre.\n \nÀ NOTER : Le lieu\, l’horaire et le déroulement de chaque rencontre sont sujets à changement.\nLes détails seront fournis sur réservation.
URL:https://lejeu.org/calendrier/rencontre-jeu-megantic-4/
LOCATION:Mégantic | Secteur Frontenac\, Frontenac\, QC
CATEGORIES:Rencontres JEU locales au Québec
ORGANIZER;CN="JEU M%C3%A9gantic":MAILTO:jeu.megantic@gmail.com
END:VEVENT
BEGIN:VEVENT
DTSTART;TZID=America/Toronto:20240414T140000
DTEND;TZID=America/Toronto:20240414T170000
DTSTAMP:20260419T110514
CREATED:20240404T171516Z
LAST-MODIFIED:20240404T174515Z
UID:11148-1713103200-1713114000@lejeu.org
SUMMARY:Bourse locale d'échange à Pont-l'Abbé
DESCRIPTION:Bourse locale d’échange\nContact: jardinuniversel@yahoo.com
URL:https://lejeu.org/calendrier/bourse-locale-dechange-a-pont-labbe/
LOCATION:Maison des associations\, Maison des associations\, 17 Rue de la Gare\, 29120 Pont-l'Abbé\, France
CATEGORIES:Rencontres interJEU en Europe
ORGANIZER;CN="JEU Finist%C3%A8re Sud":MAILTO:jardinuniversel@yahoo.com
END:VEVENT
END:VCALENDAR