BEGIN:VCALENDAR
VERSION:2.0
PRODID:-//Jardin d&#039;Echange Universel (le JEU) - ECPv6.15.16//NONSGML v1.0//EN
CALSCALE:GREGORIAN
METHOD:PUBLISH
X-ORIGINAL-URL:https://lejeu.org
X-WR-CALDESC:Évènements pour Jardin d&#039;Echange Universel (le JEU)
REFRESH-INTERVAL;VALUE=DURATION:PT1H
X-Robots-Tag:noindex
X-PUBLISHED-TTL:PT1H
BEGIN:VTIMEZONE
TZID:America/Toronto
BEGIN:DAYLIGHT
TZOFFSETFROM:-0500
TZOFFSETTO:-0400
TZNAME:EDT
DTSTART:20230312T070000
END:DAYLIGHT
BEGIN:STANDARD
TZOFFSETFROM:-0400
TZOFFSETTO:-0500
TZNAME:EST
DTSTART:20231105T060000
END:STANDARD
BEGIN:DAYLIGHT
TZOFFSETFROM:-0500
TZOFFSETTO:-0400
TZNAME:EDT
DTSTART:20240310T070000
END:DAYLIGHT
BEGIN:STANDARD
TZOFFSETFROM:-0400
TZOFFSETTO:-0500
TZNAME:EST
DTSTART:20241103T060000
END:STANDARD
BEGIN:DAYLIGHT
TZOFFSETFROM:-0500
TZOFFSETTO:-0400
TZNAME:EDT
DTSTART:20250309T070000
END:DAYLIGHT
BEGIN:STANDARD
TZOFFSETFROM:-0400
TZOFFSETTO:-0500
TZNAME:EST
DTSTART:20251102T060000
END:STANDARD
END:VTIMEZONE
BEGIN:VEVENT
DTSTART;TZID=America/Toronto:20240324T100000
DTEND;TZID=America/Toronto:20240324T120000
DTSTAMP:20260419T183350
CREATED:20240317T191201Z
LAST-MODIFIED:20240317T191201Z
UID:11110-1711274400-1711281600@lejeu.org
SUMMARY:Atelier - JEU Wotton/St-Adrien
DESCRIPTION:Atelier sur les huiles essentielles \nDominique Tremblay présente les 10 huiles de base à avoir à la maison pour prendre soin de votre santé au naturel et un « DIY » (do it your self): on fabriquera une bombe d’immunité\, un rouleau à bille pour supporter le système immunitaire. Apportez vos huiles essentielles ou payez 15$ et 30 points JEU pour le matériel et les huiles.\nRéservez en contactant dodotremblay23@protonmail.com ou au 514-915-3079. \n \nBienvenue à tous pour la rencontre JEU à 13h00 à l’école Hamelin!
URL:https://lejeu.org/calendrier/atelier-jeu-wotton-st-adrien/
LOCATION:Secteur Wotton\, 17 Chemin des Lacs\, Wotton\, QC
CATEGORIES:Rencontres JEU locales au Québec
ORGANIZER;CN="JEU Wotton/St-Adrien":MAILTO:jeuwottonstadrien@gmail.com
END:VEVENT
BEGIN:VEVENT
DTSTART;TZID=America/Toronto:20240324T130000
DTEND;TZID=America/Toronto:20240324T160000
DTSTAMP:20260419T183350
CREATED:20240122T131426Z
LAST-MODIFIED:20240317T191254Z
UID:10523-1711285200-1711296000@lejeu.org
SUMMARY:Rencontre JEU Wotton/St-Adrien
DESCRIPTION:HORAIRE (heures approximatives) \n\n13h00 – 13h15      Installation et début des échanges\n13h15 – 13h45      Période d’informations sur le fonctionnement du J.E.U. (pour les nouveaux)\n13h45 – 14h15      Cercle de parole\, Offres & Demandes\, Annonces communautaires et parler de certains sujets importants\n14h15 – 16h00      Suite et fin des échanges\n16h00                      Départ\n  \nSVP confirmez votre présence si vous êtes nouveau\, pour la logistique.
URL:https://lejeu.org/calendrier/rencontre-jeu-wotton-st-adrien-3/
LOCATION:École Hamelin\, 405 rue Monseigneur-L'Heureux\, Wotton\, Québec
CATEGORIES:Rencontres JEU locales au Québec
ORGANIZER;CN="JEU Wotton/St-Adrien":MAILTO:jeuwottonstadrien@gmail.com
END:VEVENT
END:VCALENDAR