BEGIN:VCALENDAR
VERSION:2.0
PRODID:-//Jardin d&#039;Echange Universel (le JEU) - ECPv6.15.16//NONSGML v1.0//EN
CALSCALE:GREGORIAN
METHOD:PUBLISH
X-WR-CALNAME:Jardin d&#039;Echange Universel (le JEU)
X-ORIGINAL-URL:https://lejeu.org
X-WR-CALDESC:Évènements pour Jardin d&#039;Echange Universel (le JEU)
REFRESH-INTERVAL;VALUE=DURATION:PT1H
X-Robots-Tag:noindex
X-PUBLISHED-TTL:PT1H
BEGIN:VTIMEZONE
TZID:America/Toronto
BEGIN:DAYLIGHT
TZOFFSETFROM:-0500
TZOFFSETTO:-0400
TZNAME:EDT
DTSTART:20230312T070000
END:DAYLIGHT
BEGIN:STANDARD
TZOFFSETFROM:-0400
TZOFFSETTO:-0500
TZNAME:EST
DTSTART:20231105T060000
END:STANDARD
BEGIN:DAYLIGHT
TZOFFSETFROM:-0500
TZOFFSETTO:-0400
TZNAME:EDT
DTSTART:20240310T070000
END:DAYLIGHT
BEGIN:STANDARD
TZOFFSETFROM:-0400
TZOFFSETTO:-0500
TZNAME:EST
DTSTART:20241103T060000
END:STANDARD
BEGIN:DAYLIGHT
TZOFFSETFROM:-0500
TZOFFSETTO:-0400
TZNAME:EDT
DTSTART:20250309T070000
END:DAYLIGHT
BEGIN:STANDARD
TZOFFSETFROM:-0400
TZOFFSETTO:-0500
TZNAME:EST
DTSTART:20251102T060000
END:STANDARD
END:VTIMEZONE
BEGIN:VEVENT
DTSTART;TZID=America/Toronto:20240222T184500
DTEND;TZID=America/Toronto:20240222T201500
DTSTAMP:20260420T221921
CREATED:20240127T150313Z
LAST-MODIFIED:20240215T170834Z
UID:10580-1708627500-1708632900@lejeu.org
SUMMARY:JEUdi - Rencontre virtuelle
DESCRIPTION:Créons la Foire du JEU en unissant nos élans!\n \nLien de la rencontre : https://meet.jit.si/moderated/7d14730381752f6ed7887dc484d2df6ae6911faffd35f66e797b37491fae76e2\nAnimation : Susanne B.\nGardien du temps : élan volontaire\nPrise de notes : élan volontaire  \nContenu : Venez nous rejoindre en ligne pour créer ensemble la Foire du JEU et le lancement du JardinWeb. \n\nAlimentation \n\nMenu\nTraiteur\nFournisseur\nMain d’Œuvre cuisine\nService au comptoir\nPlonge et gestion des déchets (composte)\nHoraire et location de la cuisine d’avance\nPrise de commande\n\n\n\nFacilitation des échanges\, réduire les écritures  \n\nBilletterie à l’entrée\nCaissier\nRemerciements des différents rôles\n\n\n\nAnimation et Activités pour JEUnes \n\nMusiciens et projection audiovisuelle\nCercle de paroles (créer des dynamiques de groupes  »sujet-thème »\,  »solution »\,  »création ») suite des JEUdis\nLa consigne consciente\, une façon de faire circuler le soin des matières premières et l’autonomie\n\n\n\nJEUnes \n\nEspace Friperie au profit du JEU\nFabriquer un collier\nDessin / collage collectif\, le pouvoir de l’intention (revue\, feutres\, tableau)\n\n\nIl n’est pas nécessaire de réserver. \n\nC’est quoi les JEUdi?  \nUn espace virtuel de rencontres hebdomadaires\, propice à l’initiation et au développement de projets concrets. Les projets en question répondent à nos besoins essentiels. \nPour qui?  \nLes  JEUeur.e.s qui ont foi en cette monnaie de souveraineté et qui agissent en conscience.\nLes individus qui s’engagent à faire autrement\, quoi qu’il en soit et à tous les niveaux.\nLes gens désirant passer à l’action\, concrètement\, peu importe leur groupe JEU.\n \nPourquoi?  \nLes rencontres JEU mensuelles\, en présentiel\, sont dynamiques et favorables à la circulation de l’énergie humaine\, essentielles à bâtir des liens de confiance.\nLors d’un marché de JEUeures\, des graines se sèment et le JEUdi est un lieu pour approfondir les sujets d’intérêt commun.\nÉvitant d’imposer des sujets aux participant.e.s des rencontres en présentiel\, le JEUdi favorise le développement d’un sujet ciblé. \n 
URL:https://lejeu.org/calendrier/jeudi-rencontre-virtuelle-4/
LOCATION:QC
CATEGORIES:Rencontres virtuelles
ORGANIZER;CN="Susanne B.":MAILTO:susanneboisvenue@hotmail.com
END:VEVENT
END:VCALENDAR