BEGIN:VCALENDAR
VERSION:2.0
PRODID:-//Jardin d&#039;Echange Universel (le JEU) - ECPv6.15.16//NONSGML v1.0//EN
CALSCALE:GREGORIAN
METHOD:PUBLISH
X-ORIGINAL-URL:https://lejeu.org
X-WR-CALDESC:Évènements pour Jardin d&#039;Echange Universel (le JEU)
REFRESH-INTERVAL;VALUE=DURATION:PT1H
X-Robots-Tag:noindex
X-PUBLISHED-TTL:PT1H
BEGIN:VTIMEZONE
TZID:America/Toronto
BEGIN:DAYLIGHT
TZOFFSETFROM:-0500
TZOFFSETTO:-0400
TZNAME:EDT
DTSTART:20230312T070000
END:DAYLIGHT
BEGIN:STANDARD
TZOFFSETFROM:-0400
TZOFFSETTO:-0500
TZNAME:EST
DTSTART:20231105T060000
END:STANDARD
BEGIN:DAYLIGHT
TZOFFSETFROM:-0500
TZOFFSETTO:-0400
TZNAME:EDT
DTSTART:20240310T070000
END:DAYLIGHT
BEGIN:STANDARD
TZOFFSETFROM:-0400
TZOFFSETTO:-0500
TZNAME:EST
DTSTART:20241103T060000
END:STANDARD
BEGIN:DAYLIGHT
TZOFFSETFROM:-0500
TZOFFSETTO:-0400
TZNAME:EDT
DTSTART:20250309T070000
END:DAYLIGHT
BEGIN:STANDARD
TZOFFSETFROM:-0400
TZOFFSETTO:-0500
TZNAME:EST
DTSTART:20251102T060000
END:STANDARD
END:VTIMEZONE
BEGIN:VEVENT
DTSTART;TZID=America/Toronto:20240211T090000
DTEND;TZID=America/Toronto:20240211T140000
DTSTAMP:20260420T222131
CREATED:20231214T134633Z
LAST-MODIFIED:20240127T152703Z
UID:10250-1707642000-1707660000@lejeu.org
SUMMARY:Rencontre JEU Victoriaville
DESCRIPTION:Bienvenue au JEU de Victoriaville! \nDéroulement \n9h00 Arrivée\n9h00 à 10h15 Échanges\n±10h15 Cercle de paroles\n±11h15 Rencontre décisionnelle\n12h00 Potluck\n \nMerci à bientôt!
URL:https://lejeu.org/calendrier/rencontre-jeu-victoriaville-3/
LOCATION:Sous-sol église Assomption\, 129 rue Larivière\, Porte #2\, Victoriaville\, QC\, G6P 3G3
CATEGORIES:Rencontres JEU locales au Québec
ORGANIZER;CN="JEU Victoriaville":MAILTO:jeuvicto@gmail.com
END:VEVENT
BEGIN:VEVENT
DTSTART;TZID=America/Toronto:20240211T094500
DTEND;TZID=America/Toronto:20240211T130000
DTSTAMP:20260420T222131
CREATED:20240129T175355Z
LAST-MODIFIED:20240129T175355Z
UID:10597-1707644700-1707656400@lejeu.org
SUMMARY:Rencontre JEU Rive-Sud de Montréal
DESCRIPTION:Rencontre d’échanges
URL:https://lejeu.org/calendrier/rencontre-jeu-rive-sud-de-montreal-3/
LOCATION:Secteur Beloeil\, Beloeil\, Québec\, Canada
CATEGORIES:Rencontres JEU locales au Québec
ORGANIZER;CN="JEU Rive-Sud de Montr%C3%A9al":MAILTO:jeu.rive.sud@gmail.com
END:VEVENT
BEGIN:VEVENT
DTSTART;TZID=America/Toronto:20240211T100000
DTEND;TZID=America/Toronto:20240211T120000
DTSTAMP:20260420T222131
CREATED:20231124T185200Z
LAST-MODIFIED:20231214T154217Z
UID:9713-1707645600-1707652800@lejeu.org
SUMMARY:Rencontre JEU Beauce
DESCRIPTION:Viens nous rencontrer pour partager tes produits et services en points JEU. Ambiance chaleureuse garantie! \nRéserve au plus tard 3 jours avant l’événement pour faciliter l’organisation.
URL:https://lejeu.org/calendrier/rencontre-dechanges-jeu-beauce/
LOCATION:Beauce | Endroit à déterminer\, Beauce\, Québec\, Canada
CATEGORIES:Rencontres JEU locales au Québec
ORGANIZER;CN="JEU Beauce":MAILTO:jeubeauce@hotmail.com
END:VEVENT
END:VCALENDAR