BEGIN:VCALENDAR
VERSION:2.0
PRODID:-//Jardin d&#039;Echange Universel (le JEU) - ECPv6.15.16//NONSGML v1.0//EN
CALSCALE:GREGORIAN
METHOD:PUBLISH
X-ORIGINAL-URL:https://lejeu.org
X-WR-CALDESC:Évènements pour Jardin d&#039;Echange Universel (le JEU)
REFRESH-INTERVAL;VALUE=DURATION:PT1H
X-Robots-Tag:noindex
X-PUBLISHED-TTL:PT1H
BEGIN:VTIMEZONE
TZID:America/Toronto
BEGIN:DAYLIGHT
TZOFFSETFROM:-0500
TZOFFSETTO:-0400
TZNAME:EDT
DTSTART:20230312T070000
END:DAYLIGHT
BEGIN:STANDARD
TZOFFSETFROM:-0400
TZOFFSETTO:-0500
TZNAME:EST
DTSTART:20231105T060000
END:STANDARD
BEGIN:DAYLIGHT
TZOFFSETFROM:-0500
TZOFFSETTO:-0400
TZNAME:EDT
DTSTART:20240310T070000
END:DAYLIGHT
BEGIN:STANDARD
TZOFFSETFROM:-0400
TZOFFSETTO:-0500
TZNAME:EST
DTSTART:20241103T060000
END:STANDARD
BEGIN:DAYLIGHT
TZOFFSETFROM:-0500
TZOFFSETTO:-0400
TZNAME:EDT
DTSTART:20250309T070000
END:DAYLIGHT
BEGIN:STANDARD
TZOFFSETFROM:-0400
TZOFFSETTO:-0500
TZNAME:EST
DTSTART:20251102T060000
END:STANDARD
END:VTIMEZONE
BEGIN:VEVENT
DTSTART;VALUE=DATE:20240204
DTEND;VALUE=DATE:20240205
DTSTAMP:20260420T215820
CREATED:20240126T145000Z
LAST-MODIFIED:20240126T145151Z
UID:10565-1707004800-1707091199@lejeu.org
SUMMARY:Rencontre JEU Drummondville
DESCRIPTION:Détails à venir
URL:https://lejeu.org/calendrier/rencontre-jeu-drummondville/
LOCATION:Secteur Drummondville\, Drummondville\, QC
CATEGORIES:Rencontres JEU locales au Québec
ORGANIZER;CN="JEU Drummondville":MAILTO:jeudrummondville@gmail.com
END:VEVENT
BEGIN:VEVENT
DTSTART;TZID=America/Toronto:20240204T121500
DTEND;TZID=America/Toronto:20240204T160000
DTSTAMP:20260420T215820
CREATED:20231221T180550Z
LAST-MODIFIED:20231221T180550Z
UID:10325-1707048900-1707062400@lejeu.org
SUMMARY:Rencontre JEU Montréal
DESCRIPTION:Nos rencontres mensuelles se déroulent dans un local du quartier Youville\, entre les métros Crémazie et Sauvé.\nNous te transmettrons l’adresse exacte sur réception de ton inscription. \nMerci de confirmer ta présence par courriel à jeumontreal@gmail.com.\nSi tu souhaites venir accompagné·e\, indique aussi les noms et adresses courriel de tes invité·es. \nNous demandons aux invité·es de visionner des capsules vidéos explicatives (lejeu.org/videos) et/ou de lire le Docuvrai (lejeu.org/docuvrai) avant la rencontre.
URL:https://lejeu.org/calendrier/rencontre-jeu-montreal-2/
LOCATION:L’Espace des Possibles\, 9269 rue Lajeunesse\, Montréal\, Québec\, H2M 1S3
CATEGORIES:Rencontres JEU locales au Québec
ORGANIZER;CN="JEU Montr%C3%A9al":MAILTO:jeumontreal@gmail.com
END:VEVENT
BEGIN:VEVENT
DTSTART;TZID=America/Toronto:20240204T123000
DTEND;TZID=America/Toronto:20240204T170000
DTSTAMP:20260420T215820
CREATED:20240130T133721Z
LAST-MODIFIED:20240130T133721Z
UID:10600-1707049800-1707066000@lejeu.org
SUMMARY:Rencontre JEU de Québec
DESCRIPTION:Rencontre mensuelle du JEU de Québec\nL’adresse sera transmise sur confirmation de votre présence.
URL:https://lejeu.org/calendrier/rencontre-jeu-de-quebec/
LOCATION:Secteur Loretteville\, Loretteville\, QC
CATEGORIES:Rencontres JEU locales au Québec
ORGANIZER;CN="JEU de Qu%C3%A9bec":MAILTO:jeudequebec@gmail.com
END:VEVENT
END:VCALENDAR