BEGIN:VCALENDAR
VERSION:2.0
PRODID:-//Jardin d&#039;Echange Universel (le JEU) - ECPv6.15.16//NONSGML v1.0//EN
CALSCALE:GREGORIAN
METHOD:PUBLISH
X-WR-CALNAME:Jardin d&#039;Echange Universel (le JEU)
X-ORIGINAL-URL:https://lejeu.org
X-WR-CALDESC:Évènements pour Jardin d&#039;Echange Universel (le JEU)
REFRESH-INTERVAL;VALUE=DURATION:PT1H
X-Robots-Tag:noindex
X-PUBLISHED-TTL:PT1H
BEGIN:VTIMEZONE
TZID:America/Toronto
BEGIN:DAYLIGHT
TZOFFSETFROM:-0500
TZOFFSETTO:-0400
TZNAME:EDT
DTSTART:20230312T070000
END:DAYLIGHT
BEGIN:STANDARD
TZOFFSETFROM:-0400
TZOFFSETTO:-0500
TZNAME:EST
DTSTART:20231105T060000
END:STANDARD
BEGIN:DAYLIGHT
TZOFFSETFROM:-0500
TZOFFSETTO:-0400
TZNAME:EDT
DTSTART:20240310T070000
END:DAYLIGHT
BEGIN:STANDARD
TZOFFSETFROM:-0400
TZOFFSETTO:-0500
TZNAME:EST
DTSTART:20241103T060000
END:STANDARD
BEGIN:DAYLIGHT
TZOFFSETFROM:-0500
TZOFFSETTO:-0400
TZNAME:EDT
DTSTART:20250309T070000
END:DAYLIGHT
BEGIN:STANDARD
TZOFFSETFROM:-0400
TZOFFSETTO:-0500
TZNAME:EST
DTSTART:20251102T060000
END:STANDARD
END:VTIMEZONE
BEGIN:VEVENT
DTSTART;TZID=America/Toronto:20240128T130000
DTEND;TZID=America/Toronto:20240128T160000
DTSTAMP:20260420T222734
CREATED:20240114T113706Z
LAST-MODIFIED:20240122T130248Z
UID:10443-1706446800-1706457600@lejeu.org
SUMMARY:Rencontre JEU Wotton/St-Adrien
DESCRIPTION:Rencontre JEU mensuelle\nHORAIRE (heures approximatives) \n\n13h00 – 13h15      Installation et début des échanges\n13h15 – 13h45      Période d’informations sur le fonctionnement du J.E.U. (pour les nouveaux)\n13h45 – 14h15      Cercle de parole\, Offres & Demandes\, Annonces communautaires et parler de certains sujets importants\n14h15 – 16h00      Suite et fin des échanges\n16h00                      Départ\nPour ceux qui sont intéressés\, après la rencontre à 16h il y aura un atelier sur les huiles essentielles de base à avoir à la maison pour prendre soin de votre santé au naturel donnés par Dominique Tremblay conseillère des huiles essentielles doTERRA. En confirmant votre présence\, vous serez éligible pour des prix de présence. Voici son courriel pour la contacter: dodotremblay23@gmail.com.\n \nBienvenue à tous!
URL:https://lejeu.org/calendrier/rencontre-jeu-wotton-st-adrien/
LOCATION:Secteur Wotton\, 349 rue St-Jean\, Wotton\, Québec\, Canada
CATEGORIES:Rencontres JEU locales au Québec
ORGANIZER;CN="JEU Wotton/St-Adrien":MAILTO:jeuwottonstadrien@gmail.com
END:VEVENT
END:VCALENDAR