BEGIN:VCALENDAR
VERSION:2.0
PRODID:-//Jardin d&#039;Echange Universel (le JEU) - ECPv6.15.16//NONSGML v1.0//EN
CALSCALE:GREGORIAN
METHOD:PUBLISH
X-WR-CALNAME:Jardin d&#039;Echange Universel (le JEU)
X-ORIGINAL-URL:https://lejeu.org
X-WR-CALDESC:Évènements pour Jardin d&#039;Echange Universel (le JEU)
REFRESH-INTERVAL;VALUE=DURATION:PT1H
X-Robots-Tag:noindex
X-PUBLISHED-TTL:PT1H
BEGIN:VTIMEZONE
TZID:America/Toronto
BEGIN:DAYLIGHT
TZOFFSETFROM:-0500
TZOFFSETTO:-0400
TZNAME:EDT
DTSTART:20230312T070000
END:DAYLIGHT
BEGIN:STANDARD
TZOFFSETFROM:-0400
TZOFFSETTO:-0500
TZNAME:EST
DTSTART:20231105T060000
END:STANDARD
BEGIN:DAYLIGHT
TZOFFSETFROM:-0500
TZOFFSETTO:-0400
TZNAME:EDT
DTSTART:20240310T070000
END:DAYLIGHT
BEGIN:STANDARD
TZOFFSETFROM:-0400
TZOFFSETTO:-0500
TZNAME:EST
DTSTART:20241103T060000
END:STANDARD
BEGIN:DAYLIGHT
TZOFFSETFROM:-0500
TZOFFSETTO:-0400
TZNAME:EDT
DTSTART:20250309T070000
END:DAYLIGHT
BEGIN:STANDARD
TZOFFSETFROM:-0400
TZOFFSETTO:-0500
TZNAME:EST
DTSTART:20251102T060000
END:STANDARD
END:VTIMEZONE
BEGIN:VEVENT
DTSTART;TZID=America/Toronto:20240125T183000
DTEND;TZID=America/Toronto:20240125T210000
DTSTAMP:20260421T012213
CREATED:20240105T124806Z
LAST-MODIFIED:20240105T124940Z
UID:10418-1706207400-1706216400@lejeu.org
SUMMARY:Rencontre JEU Laurentides
DESCRIPTION:Bienvenue à toutes et à tous!\nConfirme simplement ta présence quelques jours avant la rencontre.
URL:https://lejeu.org/calendrier/rencontre-jeu-laurentides/
LOCATION:Indianna Jane – Café Bistro Boutique\, 31 Rue St Louis\,\, Sainte-Agathe-des-Monts\, Québec\, J8C 2A6
CATEGORIES:Rencontres JEU locales au Québec
ORGANIZER;CN="JEU Laurentides":MAILTO:laurentides.jeu@gmail.com
END:VEVENT
BEGIN:VEVENT
DTSTART;TZID=America/Toronto:20240125T184500
DTEND;TZID=America/Toronto:20240125T201500
DTSTAMP:20260421T012213
CREATED:20240116T234941Z
LAST-MODIFIED:20240117T130110Z
UID:10476-1706208300-1706213700@lejeu.org
SUMMARY:JEUdi  -  Faire l’épicerie autrement
DESCRIPTION:C’est quoi?  \nUn espace virtuel de rencontres hebdomadaires\, propice à l’initiation et au développement de projets concrets. Les projets en question répondent à nos besoins essentiels. \nPour qui?  \nLes  JEUeur.e.s qui ont foi en cette monnaie de souveraineté et qui agissent en conscience.\nLes individus qui s’engagent à faire autrement\, quoi qu’il en soit et à tous les niveaux.\nLes gens désirant passer à l’action\, concrètement\, peu importe leur groupe JEU.\n \nPourquoi?  \nLes rencontres JEU mensuelles\, en présentiel\, sont dynamiques et favorables à la circulation de l’énergie humaine\, essentielles à bâtir des liens de confiance.\nLors d’un marché de JEUeures\, des graines se sèment et le JEUdi est un lieu pour approfondir les sujets d’intérêt commun.\nÉvitant d’imposer des sujets aux participant.e.s des rencontres en présentiel\, le JEUdi favorise le développement d’un sujet ciblé. \n \n\nRencontre du JEUdi 25 janvier 2024 : Faire l’épicerie autrement \n \nLien de la rencontre : https://meet.jit.si/moderated/7d14730381752f6ed7887dc484d2df6ae6911faffd35f66e797b37491fae76e2\nAnimation : Susanne B.\nGardien du temps : élan volontaire\nPrise de notes : élan volontaire  \nHoraire : \n\n18:45 à 19:00       Tour de table\, on se présente\n19:00 à 19:45       Proposition d’achat de groupe \n19:45 à 20:00       Contenants\, contenus et transformation \n20:00 à 20:15       Débordement et causerie \n\nIl n’est pas nécessaire de réserver.
URL:https://lejeu.org/calendrier/jeudi-faire-lepicerie-autrement/
LOCATION:QC
CATEGORIES:Rencontres virtuelles
ORGANIZER;CN="Susanne B.":MAILTO:susanneboisvenue@hotmail.com
END:VEVENT
END:VCALENDAR