BEGIN:VCALENDAR
VERSION:2.0
PRODID:-//Jardin d&#039;Echange Universel (le JEU) - ECPv6.15.16//NONSGML v1.0//EN
CALSCALE:GREGORIAN
METHOD:PUBLISH
X-WR-CALNAME:Jardin d&#039;Echange Universel (le JEU)
X-ORIGINAL-URL:https://lejeu.org
X-WR-CALDESC:Évènements pour Jardin d&#039;Echange Universel (le JEU)
REFRESH-INTERVAL;VALUE=DURATION:PT1H
X-Robots-Tag:noindex
X-PUBLISHED-TTL:PT1H
BEGIN:VTIMEZONE
TZID:America/Toronto
BEGIN:DAYLIGHT
TZOFFSETFROM:-0500
TZOFFSETTO:-0400
TZNAME:EDT
DTSTART:20220313T070000
END:DAYLIGHT
BEGIN:STANDARD
TZOFFSETFROM:-0400
TZOFFSETTO:-0500
TZNAME:EST
DTSTART:20221106T060000
END:STANDARD
BEGIN:DAYLIGHT
TZOFFSETFROM:-0500
TZOFFSETTO:-0400
TZNAME:EDT
DTSTART:20230312T070000
END:DAYLIGHT
BEGIN:STANDARD
TZOFFSETFROM:-0400
TZOFFSETTO:-0500
TZNAME:EST
DTSTART:20231105T060000
END:STANDARD
BEGIN:DAYLIGHT
TZOFFSETFROM:-0500
TZOFFSETTO:-0400
TZNAME:EDT
DTSTART:20240310T070000
END:DAYLIGHT
BEGIN:STANDARD
TZOFFSETFROM:-0400
TZOFFSETTO:-0500
TZNAME:EST
DTSTART:20241103T060000
END:STANDARD
END:VTIMEZONE
BEGIN:VEVENT
DTSTART;TZID=America/Toronto:20231216T100000
DTEND;TZID=America/Toronto:20231216T160000
DTSTAMP:20260421T014938
CREATED:20231208T130516Z
LAST-MODIFIED:20231208T130545Z
UID:10197-1702720800-1702742400@lejeu.org
SUMMARY:Rencontre JEU Stukely
DESCRIPTION:Rencontre d’échanges avec repas partagé.
URL:https://lejeu.org/calendrier/rencontre-jeu-stukely/
LOCATION:Secteur Eastman\, Eastman\, Québec\, Canada
CATEGORIES:Rencontres JEU locales au Québec
ORGANIZER;CN="JEU Stukely":MAILTO:jeu.stukely@gmail.com
END:VEVENT
END:VCALENDAR