BEGIN:VCALENDAR
VERSION:2.0
PRODID:-//Jardin d&#039;Echange Universel (le JEU) - ECPv6.15.16//NONSGML v1.0//EN
CALSCALE:GREGORIAN
METHOD:PUBLISH
X-ORIGINAL-URL:https://lejeu.org
X-WR-CALDESC:Évènements pour Jardin d&#039;Echange Universel (le JEU)
REFRESH-INTERVAL;VALUE=DURATION:PT1H
X-Robots-Tag:noindex
X-PUBLISHED-TTL:PT1H
BEGIN:VTIMEZONE
TZID:America/Toronto
BEGIN:DAYLIGHT
TZOFFSETFROM:-0500
TZOFFSETTO:-0400
TZNAME:EDT
DTSTART:20220313T070000
END:DAYLIGHT
BEGIN:STANDARD
TZOFFSETFROM:-0400
TZOFFSETTO:-0500
TZNAME:EST
DTSTART:20221106T060000
END:STANDARD
BEGIN:DAYLIGHT
TZOFFSETFROM:-0500
TZOFFSETTO:-0400
TZNAME:EDT
DTSTART:20230312T070000
END:DAYLIGHT
BEGIN:STANDARD
TZOFFSETFROM:-0400
TZOFFSETTO:-0500
TZNAME:EST
DTSTART:20231105T060000
END:STANDARD
BEGIN:DAYLIGHT
TZOFFSETFROM:-0500
TZOFFSETTO:-0400
TZNAME:EDT
DTSTART:20240310T070000
END:DAYLIGHT
BEGIN:STANDARD
TZOFFSETFROM:-0400
TZOFFSETTO:-0500
TZNAME:EST
DTSTART:20241103T060000
END:STANDARD
END:VTIMEZONE
BEGIN:VEVENT
DTSTART;TZID=America/Toronto:20231203T120000
DTEND;TZID=America/Toronto:20231203T190000
DTSTAMP:20260421T013955
CREATED:20231124T205326Z
LAST-MODIFIED:20231201T163646Z
UID:9732-1701604800-1701630000@lejeu.org
SUMMARY:Marché de Noël et Potluck\, JEU de Montréal
DESCRIPTION:QUAND? \nDimanche 3 décembre dès 12 h 15 \nMarché jusqu’à 16 h 30 \nPotluck jusqu’à 19 h! \n  \nOÙ? \nDans notre magnifique local du quartier Youville\, situé sur la rue Lajeunesse entre les métros Crémazie et Sauvé \n  \nRSVP\nMerci de confirmer ta présence par courriel: jeumontreal@gmail.com\nPrécise si tu auras besoin d’une demie table.\nSi tu souhaites venir accompagné\, merci d’indiquer les noms et courriels de tes invités.\nNous te transmettrons l’adresse exacte sur réception de ton inscription. \nCOÛT\n2 $ par personne \nFONCTIONNEMENT \nMARCHÉ DE NOËL: \nLors de cet évènement unique\, surprenons-nous et échangeons nos plus belles créations! \nN’hésite pas à apporter une nappe\, décorer ta table et identifier la valeur de tes objets. \nPour tes échanges en points-JEU\, nous te suggérons d’apporter des produits de qualité qui s’offriront bien en cadeaux 🎁🎁🎁 \nN’hésite pas à partager des photos teasers (ou à sonder le groupe pour trouver des idées) sur le groupe Telegram! \nPOT LUCK: \nNous nous retrouverons une dernière fois cette année\, ensemble autour d’une heureuse tablée! \nApporte un plat\, des à-côtés et des boissons à partager pour un moment agréable et festif! 🎊🥨🍾🥳 \nUne cuisine autogérée complète est à notre disposition\, et nous serons chacun responsable de la remettre en ordre. \nHORAIRE\n12h00: Pré-ouverture et préparation de la salle par les volontaires\n12:15: Arrivée des JEUeurs\n13:00: Début des échanges (apportez vos créations et objets)\n13:30: Période de Questions & Réponses aux nouveaux\n14:30: Cercle de parole des offres et demandes\n15:30: Témoignages partagés sur nos cheminements face au JEU\n16:30: Potluck (repas-partage)\n19:00: Rangement du local\n19:30: Départ \nVIDÉOS ET PRE-REQUIS\nA l’intention de nos invités qui n’ont jamais participé à une rencontre JEU\, des capsules vidéos explicatives sont disponibles sur lejeu.org/videos et jeumontreal.ca/videos\nLa nouvelle capsule « Évaluer la valeur de mes offres » vient d’être produite et d’être ajoutée au site.\nÉgalement\, le Docuvrai est un guide décrivant ce qu’est le JEU et son fonctionnement: lejeu.org/docuvrai \nMÉMO \nN’oublie pas d’apporter: \n\nTes créations et objets à échanger\nTon carnet-JEU et stylo\nDe l’argent pour certaines transactions et pour le paiement de la salle\nDes décorations pour une ambiance de Noël! 🎄\nDes chaussures d’intérieur ou pantoufles\n\n  \n🎁🎁 Bons préparatifs et au plaisir de célébrer ensemble !!! 😊💕
URL:https://lejeu.org/calendrier/marche-de-noel-et-potluck/
LOCATION:L’Espace des Possibles\, 9269 rue Lajeunesse\, Montréal\, Québec\, H2M 1S3
CATEGORIES:Rencontres interJEU au Québec
ORGANIZER;CN="JEU Montr%C3%A9al":MAILTO:jeumontreal@gmail.com
END:VEVENT
END:VCALENDAR