BEGIN:VCALENDAR
VERSION:2.0
PRODID:-//Jardin d&#039;Echange Universel (le JEU) - ECPv6.15.16//NONSGML v1.0//EN
CALSCALE:GREGORIAN
METHOD:PUBLISH
X-WR-CALNAME:Jardin d&#039;Echange Universel (le JEU)
X-ORIGINAL-URL:https://lejeu.org
X-WR-CALDESC:Évènements pour Jardin d&#039;Echange Universel (le JEU)
REFRESH-INTERVAL;VALUE=DURATION:PT1H
X-Robots-Tag:noindex
X-PUBLISHED-TTL:PT1H
BEGIN:VTIMEZONE
TZID:America/Toronto
BEGIN:DAYLIGHT
TZOFFSETFROM:-0500
TZOFFSETTO:-0400
TZNAME:EDT
DTSTART:20220313T070000
END:DAYLIGHT
BEGIN:STANDARD
TZOFFSETFROM:-0400
TZOFFSETTO:-0500
TZNAME:EST
DTSTART:20221106T060000
END:STANDARD
BEGIN:DAYLIGHT
TZOFFSETFROM:-0500
TZOFFSETTO:-0400
TZNAME:EDT
DTSTART:20230312T070000
END:DAYLIGHT
BEGIN:STANDARD
TZOFFSETFROM:-0400
TZOFFSETTO:-0500
TZNAME:EST
DTSTART:20231105T060000
END:STANDARD
BEGIN:DAYLIGHT
TZOFFSETFROM:-0500
TZOFFSETTO:-0400
TZNAME:EDT
DTSTART:20240310T070000
END:DAYLIGHT
BEGIN:STANDARD
TZOFFSETFROM:-0400
TZOFFSETTO:-0500
TZNAME:EST
DTSTART:20241103T060000
END:STANDARD
END:VTIMEZONE
BEGIN:VEVENT
DTSTART;TZID=America/Toronto:20231118T093000
DTEND;TZID=America/Toronto:20231118T160000
DTSTAMP:20260421T033502
CREATED:20231126T122549Z
LAST-MODIFIED:20231130T221152Z
UID:9898-1700299800-1700323200@lejeu.org
SUMMARY:Journée Collectif interJEU
DESCRIPTION:Cette journée de rencontres permet de réfléchir sur l’orientation des conseils et de faire le point sur les projets en cours. \nSont invités tous les partenaires impliqués\, ou intéressés à s’impliquer dans le Collectif interJEU.
URL:https://lejeu.org/calendrier/journee-collectif-interjeu/
LOCATION:Villa Momentum\, 305 Rue Principale\, Ste-Brigitte-des-Saults\, Québec\, J0C 1E0\, Canada
CATEGORIES:Journées Collectif interJEU
ORGANIZER;CN="Collectif interJEU":MAILTO:collectif@lejeu.org
END:VEVENT
END:VCALENDAR